BEGIN:VCALENDAR
VERSION:2.0
PRODID:-//City of Leduc - ECPv6.15.20//NONSGML v1.0//EN
CALSCALE:GREGORIAN
METHOD:PUBLISH
X-WR-CALNAME:City of Leduc
X-ORIGINAL-URL:https://www.leduc.ca
X-WR-CALDESC:Events for City of Leduc
REFRESH-INTERVAL;VALUE=DURATION:PT1H
X-Robots-Tag:noindex
X-PUBLISHED-TTL:PT1H
BEGIN:VTIMEZONE
TZID:America/Edmonton
BEGIN:DAYLIGHT
TZOFFSETFROM:-0700
TZOFFSETTO:-0600
TZNAME:MDT
DTSTART:20250309T090000
END:DAYLIGHT
BEGIN:STANDARD
TZOFFSETFROM:-0600
TZOFFSETTO:-0700
TZNAME:MST
DTSTART:20251102T080000
END:STANDARD
BEGIN:DAYLIGHT
TZOFFSETFROM:-0700
TZOFFSETTO:-0600
TZNAME:MDT
DTSTART:20260308T090000
END:DAYLIGHT
BEGIN:STANDARD
TZOFFSETFROM:-0600
TZOFFSETTO:-0700
TZNAME:MST
DTSTART:20261101T080000
END:STANDARD
BEGIN:DAYLIGHT
TZOFFSETFROM:-0700
TZOFFSETTO:-0600
TZNAME:MDT
DTSTART:20270314T090000
END:DAYLIGHT
BEGIN:STANDARD
TZOFFSETFROM:-0600
TZOFFSETTO:-0700
TZNAME:MST
DTSTART:20271107T080000
END:STANDARD
END:VTIMEZONE
BEGIN:VEVENT
DTSTART;TZID=America/Edmonton:20260606T090000
DTEND;TZID=America/Edmonton:20260606T150000
DTSTAMP:20260423T042246
CREATED:20260206T224527Z
LAST-MODIFIED:20260219T200120Z
UID:10003618-1780736400-1780758000@www.leduc.ca
SUMMARY:Coffee & Conversations: Risk Management
DESCRIPTION:A Risk Management Plan helps protect an organization\, its staff\, volunteers\, and clients by proactively identifying and managing potential risks. By embedding risk management into organizational culture\, the organization maintains control and reduces liability regardless of who provides the service. Effective risk management does not have to be complex and is most successful when tailored to the specific needs of the organization. \nTopics Covered: \n\nDiscover what is risk and risk management\nDefine the in-depth process of risk management\nCreate a risk management plan\nEvaluate the outcomes\n\nWhen: Saturday\, June 6 from 9 a.m. to 3 p.m.\nWhere: Leduc Civic Centre\nCost: $20\nHow to Register: Register on Eventbrite
URL:https://www.leduc.ca/event/coffee-conversations-risk-management
LOCATION:City of Leduc Civic Centre\, 1 Alexandra Park\, Leduc\, AB\, T9E 4C4\, Canada
CATEGORIES:Arts & Culture,Special Events
ATTACH;FMTTYPE=image/jpeg:https://www.leduc.ca/wp-content/uploads/2025/04/coffee-cup-with-beans.jpg
GEO:53.260428;-113.549745
X-APPLE-STRUCTURED-LOCATION;VALUE=URI;X-ADDRESS=City of Leduc Civic Centre 1 Alexandra Park Leduc AB T9E 4C4 Canada;X-APPLE-RADIUS=500;X-TITLE=1 Alexandra Park:geo:-113.549745,53.260428
END:VEVENT
END:VCALENDAR