BEGIN:VCALENDAR
VERSION:2.0
PRODID:-//City of Leduc - ECPv6.15.20//NONSGML v1.0//EN
CALSCALE:GREGORIAN
METHOD:PUBLISH
X-ORIGINAL-URL:https://www.leduc.ca
X-WR-CALDESC:Events for City of Leduc
REFRESH-INTERVAL;VALUE=DURATION:PT1H
X-Robots-Tag:noindex
X-PUBLISHED-TTL:PT1H
BEGIN:VTIMEZONE
TZID:America/Edmonton
BEGIN:DAYLIGHT
TZOFFSETFROM:-0700
TZOFFSETTO:-0600
TZNAME:MDT
DTSTART:20250309T090000
END:DAYLIGHT
BEGIN:STANDARD
TZOFFSETFROM:-0600
TZOFFSETTO:-0700
TZNAME:MST
DTSTART:20251102T080000
END:STANDARD
BEGIN:DAYLIGHT
TZOFFSETFROM:-0700
TZOFFSETTO:-0600
TZNAME:MDT
DTSTART:20260308T090000
END:DAYLIGHT
BEGIN:STANDARD
TZOFFSETFROM:-0600
TZOFFSETTO:-0700
TZNAME:MST
DTSTART:20261101T080000
END:STANDARD
BEGIN:DAYLIGHT
TZOFFSETFROM:-0700
TZOFFSETTO:-0600
TZNAME:MDT
DTSTART:20270314T090000
END:DAYLIGHT
BEGIN:STANDARD
TZOFFSETFROM:-0600
TZOFFSETTO:-0700
TZNAME:MST
DTSTART:20271107T080000
END:STANDARD
END:VTIMEZONE
BEGIN:VEVENT
DTSTART;TZID=America/Edmonton:20260718T110000
DTEND;TZID=America/Edmonton:20260718T170000
DTSTAMP:20260423T055021
CREATED:20260319T175751Z
LAST-MODIFIED:20260319T175751Z
UID:10003654-1784372400-1784394000@www.leduc.ca
SUMMARY:Art Walk 2026
DESCRIPTION:Art Walk is a celebration of creativity and community\, bringing together artists\, performers\, makers\, families\, and visitors of all ages. Held annually Downtown Leduc\, the event highlights local talent\, fosters creative connections\, and invites everyone to enjoy a day of art\, expression\, and community togetherness. \nWhat to Expect (More Details Coming Soon)\nWhile performers\, food trucks\, activity partners\, and the full event schedule are still being finalized\, here’s what you can look forward to at Art Walk 2026: \nArtists & Makers Marketplace\nExplore stalls featuring original paintings\, jewelry\, pottery\, textiles\, photography\, sculpture\, and much more. \nLive Music & Entertainment\nWe’ll have local performers bringing beats and live sound throughout the day. \nFamily & Community Activities\nCreative spaces designed for fun\, inspiration\, and hands‑on interaction for all ages. \nGood Eats\nA selection of food trucks and local vendors to keep you energized as you enjoy the festival atmosphere. \n(Full lineup of music\, activities\, food\, and stage schedule coming soon!)
URL:https://www.leduc.ca/event/art-walk-2026
CATEGORIES:Annual Events,Arts & Culture,Community Events,Things to Do
END:VEVENT
END:VCALENDAR