BEGIN:VCALENDAR
VERSION:2.0
PRODID:-//City of Leduc - ECPv6.15.20//NONSGML v1.0//EN
CALSCALE:GREGORIAN
METHOD:PUBLISH
X-WR-CALNAME:City of Leduc
X-ORIGINAL-URL:https://www.leduc.ca
X-WR-CALDESC:Events for City of Leduc
REFRESH-INTERVAL;VALUE=DURATION:PT1H
X-Robots-Tag:noindex
X-PUBLISHED-TTL:PT1H
BEGIN:VTIMEZONE
TZID:America/Edmonton
BEGIN:DAYLIGHT
TZOFFSETFROM:-0700
TZOFFSETTO:-0600
TZNAME:MDT
DTSTART:20250309T090000
END:DAYLIGHT
BEGIN:STANDARD
TZOFFSETFROM:-0600
TZOFFSETTO:-0700
TZNAME:MST
DTSTART:20251102T080000
END:STANDARD
BEGIN:DAYLIGHT
TZOFFSETFROM:-0700
TZOFFSETTO:-0600
TZNAME:MDT
DTSTART:20260308T090000
END:DAYLIGHT
BEGIN:STANDARD
TZOFFSETFROM:-0600
TZOFFSETTO:-0700
TZNAME:MST
DTSTART:20261101T080000
END:STANDARD
BEGIN:DAYLIGHT
TZOFFSETFROM:-0700
TZOFFSETTO:-0600
TZNAME:MDT
DTSTART:20270314T090000
END:DAYLIGHT
BEGIN:STANDARD
TZOFFSETFROM:-0600
TZOFFSETTO:-0700
TZNAME:MST
DTSTART:20271107T080000
END:STANDARD
END:VTIMEZONE
BEGIN:VEVENT
DTSTART;TZID=America/Edmonton:20260422T160000
DTEND;TZID=America/Edmonton:20260422T190000
DTSTAMP:20260420T043245
CREATED:20260324T173754Z
LAST-MODIFIED:20260324T173754Z
UID:10003659-1776873600-1776884400@www.leduc.ca
SUMMARY:National Volunteer Week: Volunteer Appreciation Activation
DESCRIPTION:Find us at the Leduc Recreation Centre on Wednesday\, April 22 as we celebrate Leduc’s volunteers. We’ll be handing out some City swag and gift cards to volunteers to recognize the essential roles they play in our community.   \nWe’ll also be sharing information on how you can get more involved in the community.   \nTime: 4 – 7 p.m.\nWhere: Leduc Recreation Centre
URL:https://www.leduc.ca/event/national-volunteer-week-volunteer-appreciation-activation
LOCATION:Leduc Recreation Centre\, 4330 Black Gold Dr\, Leduc\, AB\, T9E 3C3\, Canada
CATEGORIES:Community Events,Special Events
ATTACH;FMTTYPE=image/jpeg:https://www.leduc.ca/wp-content/uploads/2025/03/Volunteers-at-Canada-Day-e1742579728427.jpg
GEO:53.2568865;-113.5281162
X-APPLE-STRUCTURED-LOCATION;VALUE=URI;X-ADDRESS=Leduc Recreation Centre 4330 Black Gold Dr Leduc AB T9E 3C3 Canada;X-APPLE-RADIUS=500;X-TITLE=4330 Black Gold Dr:geo:-113.5281162,53.2568865
END:VEVENT
BEGIN:VEVENT
DTSTART;VALUE=DATE:20260423
DTEND;VALUE=DATE:20260426
DTSTAMP:20260420T043245
CREATED:20260309T173741Z
LAST-MODIFIED:20260309T192432Z
UID:10003639-1776902400-1777161599@www.leduc.ca
SUMMARY:Women's 55+ Hockey Provincial Championship
DESCRIPTION:The Women’s 55+ Hockey Provincial Championship brings together experienced athletes from across the province to compete for the provincial title. The tournament celebrates skill\, teamwork\, and a lifelong passion for the game\, while creating a fun and competitive environment for players\, coaches\, and fans
URL:https://www.leduc.ca/event/womens-55-hockey-provincial-championship
LOCATION:Leduc Recreation Centre\, 4330 Black Gold Dr\, Leduc\, AB\, T9E 3C3\, Canada
CATEGORIES:Community Events,Sports Event
ATTACH;FMTTYPE=image/jpeg:https://www.leduc.ca/wp-content/uploads/2026/02/lrc-arena-hockey-media-gallery.jpg
GEO:53.2568865;-113.5281162
X-APPLE-STRUCTURED-LOCATION;VALUE=URI;X-ADDRESS=Leduc Recreation Centre 4330 Black Gold Dr Leduc AB T9E 3C3 Canada;X-APPLE-RADIUS=500;X-TITLE=4330 Black Gold Dr:geo:-113.5281162,53.2568865
END:VEVENT
BEGIN:VEVENT
DTSTART;VALUE=DATE:20260425
DTEND;VALUE=DATE:20260427
DTSTAMP:20260420T043245
CREATED:20260309T175614Z
LAST-MODIFIED:20260309T202319Z
UID:10003640-1777075200-1777247999@www.leduc.ca
SUMMARY:Volleyball Alberta Tournament
DESCRIPTION:Join us for an exciting weekend of high-energy competition at the Volleyball Alberta Tournament. Teams from across the region will hit the court to showcase their skills\, teamwork\, and passion for the sport. Whether you’re cheering from the stands or competing on the court\, it’s the perfect opportunity to enjoy top-level volleyball action and community spirit.
URL:https://www.leduc.ca/event/volleyball-alberta-tournament-2
LOCATION:Leduc Recreation Centre\, 4330 Black Gold Dr\, Leduc\, AB\, T9E 3C3\, Canada
CATEGORIES:Community Events
ATTACH;FMTTYPE=image/jpeg:https://www.leduc.ca/wp-content/uploads/2025/12/lrc-volleyball-tournament-image-placeholder.jpg
GEO:53.2568865;-113.5281162
X-APPLE-STRUCTURED-LOCATION;VALUE=URI;X-ADDRESS=Leduc Recreation Centre 4330 Black Gold Dr Leduc AB T9E 3C3 Canada;X-APPLE-RADIUS=500;X-TITLE=4330 Black Gold Dr:geo:-113.5281162,53.2568865
END:VEVENT
BEGIN:VEVENT
DTSTART;VALUE=DATE:20260501
DTEND;VALUE=DATE:20260504
DTSTAMP:20260420T043245
CREATED:20260309T175651Z
LAST-MODIFIED:20260309T202351Z
UID:10003641-1777593600-1777852799@www.leduc.ca
SUMMARY:Spring Hockey AB Champions Cup
DESCRIPTION:This tournament brings players together to challenge and display their skills\, teamwork\, and sportsmanship. The event unites athletes\, coaches\, and fans in an energetic atmosphere that celebrates the spirit and excitement of hockey.
URL:https://www.leduc.ca/event/spring-hockey-ab-champions-cup
LOCATION:Leduc Recreation Centre\, 4330 Black Gold Dr\, Leduc\, AB\, T9E 3C3\, Canada
CATEGORIES:Community Events,Sports Event,Things to Do
ATTACH;FMTTYPE=image/jpeg:https://www.leduc.ca/wp-content/uploads/2026/02/lrc-arena-hockey-media-gallery.jpg
GEO:53.2568865;-113.5281162
X-APPLE-STRUCTURED-LOCATION;VALUE=URI;X-ADDRESS=Leduc Recreation Centre 4330 Black Gold Dr Leduc AB T9E 3C3 Canada;X-APPLE-RADIUS=500;X-TITLE=4330 Black Gold Dr:geo:-113.5281162,53.2568865
END:VEVENT
BEGIN:VEVENT
DTSTART;VALUE=DATE:20260501
DTEND;VALUE=DATE:20260504
DTSTAMP:20260420T043245
CREATED:20260309T183138Z
LAST-MODIFIED:20260309T183138Z
UID:10003642-1777593600-1777852799@www.leduc.ca
SUMMARY:AFA Provincial Championships
DESCRIPTION:The 2026 Fencing Provincials is a provincial championship where fencers compete in a series of bouts to determine the top athletes in the province. The event highlights quick reflexes\, tactical skill\, and competitive spirit while bringing together the fencing community for an exciting tournament.
URL:https://www.leduc.ca/event/afa-provincial-championships
LOCATION:Leduc Recreation Centre\, 4330 Black Gold Dr\, Leduc\, AB\, T9E 3C3\, Canada
CATEGORIES:Community Events,Sports Event,Things to Do
GEO:53.2568865;-113.5281162
X-APPLE-STRUCTURED-LOCATION;VALUE=URI;X-ADDRESS=Leduc Recreation Centre 4330 Black Gold Dr Leduc AB T9E 3C3 Canada;X-APPLE-RADIUS=500;X-TITLE=4330 Black Gold Dr:geo:-113.5281162,53.2568865
END:VEVENT
BEGIN:VEVENT
DTSTART;VALUE=DATE:20260502
DTEND;VALUE=DATE:20260504
DTSTAMP:20260420T043245
CREATED:20260309T184407Z
LAST-MODIFIED:20260309T184407Z
UID:10003643-1777680000-1777852799@www.leduc.ca
SUMMARY:Volleyball Alberta Tournament
DESCRIPTION:Join us for an exciting weekend of high-energy competition at the Volleyball Alberta Tournament. Teams from across the region will hit the court to showcase their skills\, teamwork\, and passion for the sport. Whether you’re cheering from the stands or competing on the court\, it’s the perfect opportunity to enjoy top-level volleyball action and community spirit.
URL:https://www.leduc.ca/event/volleyball-alberta-tournament-3
LOCATION:Leduc Recreation Centre\, 4330 Black Gold Dr\, Leduc\, AB\, T9E 3C3\, Canada
CATEGORIES:Community Events,Sports Event,Things to Do
ATTACH;FMTTYPE=image/jpeg:https://www.leduc.ca/wp-content/uploads/2025/12/lrc-volleyball-tournament-image-placeholder.jpg
GEO:53.2568865;-113.5281162
X-APPLE-STRUCTURED-LOCATION;VALUE=URI;X-ADDRESS=Leduc Recreation Centre 4330 Black Gold Dr Leduc AB T9E 3C3 Canada;X-APPLE-RADIUS=500;X-TITLE=4330 Black Gold Dr:geo:-113.5281162,53.2568865
END:VEVENT
BEGIN:VEVENT
DTSTART;VALUE=DATE:20260508
DTEND;VALUE=DATE:20260511
DTSTAMP:20260420T043245
CREATED:20260309T184458Z
LAST-MODIFIED:20260309T184458Z
UID:10003644-1778198400-1778457599@www.leduc.ca
SUMMARY:Alliance Invitational Spring Hockey Tournament
DESCRIPTION:This tournament brings players together to challenge and display their skills\, teamwork\, and sportsmanship. The event unites athletes\, coaches\, and fans in an energetic atmosphere that celebrates the spirit and excitement of hockey.
URL:https://www.leduc.ca/event/alliance-invitational-spring-hockey-tournament
LOCATION:Leduc Recreation Centre\, 4330 Black Gold Dr\, Leduc\, AB\, T9E 3C3\, Canada
CATEGORIES:Community Events,Sports Event,Things to Do
ATTACH;FMTTYPE=image/jpeg:https://www.leduc.ca/wp-content/uploads/2026/02/lrc-arena-hockey-media-gallery.jpg
GEO:53.2568865;-113.5281162
X-APPLE-STRUCTURED-LOCATION;VALUE=URI;X-ADDRESS=Leduc Recreation Centre 4330 Black Gold Dr Leduc AB T9E 3C3 Canada;X-APPLE-RADIUS=500;X-TITLE=4330 Black Gold Dr:geo:-113.5281162,53.2568865
END:VEVENT
BEGIN:VEVENT
DTSTART;TZID=America/Edmonton:20260526T173000
DTEND;TZID=America/Edmonton:20260526T200000
DTSTAMP:20260420T043245
CREATED:20260408T165619Z
LAST-MODIFIED:20260408T165619Z
UID:10003662-1779816600-1779825600@www.leduc.ca
SUMMARY:Making Friends in the Adult World
DESCRIPTION:For most of us over the age of 10\, the process of making friends can often be exhausting and time consuming. Knowing where and how to start might make things a little easier. \nThis session teaches participants about healthy levels of connection in the various types of friendships that exist in the adult world. It also explains the key elements needed to smooth out the process of forging long-lasting and meaningful adult connections. \nDinner: 5:30 p.m. – 6 p.m. \nPresentation from Tacit Knowledge Training: 6 p.m. – 7:30 p.m. \nRegister by: May 20
URL:https://www.leduc.ca/event/making-friends-in-the-adult-world
LOCATION:Leduc Recreation Centre\, 4330 Black Gold Dr\, Leduc\, AB\, T9E 3C3\, Canada
CATEGORIES:City Government,Family Resource Network,Things to Do
ATTACH;FMTTYPE=image/jpeg:https://www.leduc.ca/wp-content/uploads/2025/04/Youth-taking-a-selfie-together.jpg
GEO:53.2568865;-113.5281162
X-APPLE-STRUCTURED-LOCATION;VALUE=URI;X-ADDRESS=Leduc Recreation Centre 4330 Black Gold Dr Leduc AB T9E 3C3 Canada;X-APPLE-RADIUS=500;X-TITLE=4330 Black Gold Dr:geo:-113.5281162,53.2568865
END:VEVENT
BEGIN:VEVENT
DTSTART;VALUE=DATE:20260528
DTEND;VALUE=DATE:20260601
DTSTAMP:20260420T043245
CREATED:20260309T184640Z
LAST-MODIFIED:20260309T184640Z
UID:10003646-1779926400-1780271999@www.leduc.ca
SUMMARY:Leduc Black Gold Rodeo
DESCRIPTION:The Leduc Black Gold Rodeo is an annual celebration featuring thrilling rodeo performances\, Midway rides\, a trade fair\, cabaret shows\, and a variety of other activities. For more information\, visit: https://www.blackgoldrodeo.com/
URL:https://www.leduc.ca/event/leduc-black-gold-rodeo
LOCATION:Leduc Recreation Centre\, 4330 Black Gold Dr\, Leduc\, AB\, T9E 3C3\, Canada
CATEGORIES:Community Events,Things to Do
ATTACH;FMTTYPE=image/jpeg:https://www.leduc.ca/wp-content/uploads/2025/03/Black-Gold-Rodeo-barrel-racing.jpg
GEO:53.2568865;-113.5281162
X-APPLE-STRUCTURED-LOCATION;VALUE=URI;X-ADDRESS=Leduc Recreation Centre 4330 Black Gold Dr Leduc AB T9E 3C3 Canada;X-APPLE-RADIUS=500;X-TITLE=4330 Black Gold Dr:geo:-113.5281162,53.2568865
END:VEVENT
BEGIN:VEVENT
DTSTART;VALUE=DATE:20260601
DTEND;VALUE=DATE:20260602
DTSTAMP:20260420T043245
CREATED:20260309T184542Z
LAST-MODIFIED:20260309T184542Z
UID:10003645-1780272000-1780358399@www.leduc.ca
SUMMARY:4-H Achievement Day
DESCRIPTION:4-H Achievement Day is an annual showcase of local youth talent\, featuring livestock shows\, project displays\, and a sale\, held at the Leduc Recreation Centre. The event highlights the hard work and skills developed by members of local clubs.
URL:https://www.leduc.ca/event/4-h-achievement-day
LOCATION:Leduc Recreation Centre\, 4330 Black Gold Dr\, Leduc\, AB\, T9E 3C3\, Canada
CATEGORIES:Community Events,Things to Do
GEO:53.2568865;-113.5281162
X-APPLE-STRUCTURED-LOCATION;VALUE=URI;X-ADDRESS=Leduc Recreation Centre 4330 Black Gold Dr Leduc AB T9E 3C3 Canada;X-APPLE-RADIUS=500;X-TITLE=4330 Black Gold Dr:geo:-113.5281162,53.2568865
END:VEVENT
BEGIN:VEVENT
DTSTART;VALUE=DATE:20260605
DTEND;VALUE=DATE:20260608
DTSTAMP:20260420T043245
CREATED:20260303T225217Z
LAST-MODIFIED:20260327T203552Z
UID:10003624-1780617600-1780876799@www.leduc.ca
SUMMARY:FireFit
DESCRIPTION:The FireFit Championships is a high-intensity competition based on firefighting tasks commonly performed in emergency situations. Competitors race through a demanding course that simulates real-world scenarios firefighters face\, testing their strength\, speed\, endurance\, and technical skill under pressure. From first-time competitors to seasoned veterans\, FireFit attracts firefighters from across Canada and around the world. \nWhether competing individually\, as part of a team\, or in relay format\, participants push their limits while wearing full structural firefighting gear and breathing apparatus. The competition showcases the incredible athleticism and dedication required in the fire service\, while fostering camaraderie and healthy competition within the firefighting community.
URL:https://www.leduc.ca/event/firefit
LOCATION:Leduc Recreation Centre\, 4330 Black Gold Dr\, Leduc\, AB\, T9E 3C3\, Canada
CATEGORIES:Community Events,Things to Do
GEO:53.2568865;-113.5281162
X-APPLE-STRUCTURED-LOCATION;VALUE=URI;X-ADDRESS=Leduc Recreation Centre 4330 Black Gold Dr Leduc AB T9E 3C3 Canada;X-APPLE-RADIUS=500;X-TITLE=4330 Black Gold Dr:geo:-113.5281162,53.2568865
END:VEVENT
BEGIN:VEVENT
DTSTART;VALUE=DATE:20260621
DTEND;VALUE=DATE:20260622
DTSTAMP:20260420T043245
CREATED:20260304T232833Z
LAST-MODIFIED:20260304T232833Z
UID:10003628-1782000000-1782086399@www.leduc.ca
SUMMARY:Tour Alberta for Cancer- Edmonton Training Ride
DESCRIPTION:The Tour Alberta for Cancer  is happening at the Leduc Recreation Centre on June 21 for a powerful day of cycling in support of the Alberta Cancer Foundation. This inspiring event brings together riders\, volunteers\, and community members with a shared commitment to making a difference for Albertans facing cancer. \nParticipants will take on meaningful routes while raising critical funds for research\, treatment\, and patient care across the province. With an atmosphere fueled by determination\, hope\, and community spirit\, the Tour Alberta for Cancer offers a memorable experience for everyone involved.
URL:https://www.leduc.ca/event/tour-alberta-for-cancer-edmonton-training-ride
LOCATION:Leduc Recreation Centre\, 4330 Black Gold Dr\, Leduc\, AB\, T9E 3C3\, Canada
CATEGORIES:Community Events,Sports Event,Things to Do
GEO:53.2568865;-113.5281162
X-APPLE-STRUCTURED-LOCATION;VALUE=URI;X-ADDRESS=Leduc Recreation Centre 4330 Black Gold Dr Leduc AB T9E 3C3 Canada;X-APPLE-RADIUS=500;X-TITLE=4330 Black Gold Dr:geo:-113.5281162,53.2568865
END:VEVENT
END:VCALENDAR